BEGIN:VCALENDAR
VERSION:2.0
PRODID:Bruse Real Estate Open for Inspection - Brilliant Town Home.
 Brilliant location. Close to every convenience. Just move in, live and
 enjoy a wonderful life in this designer style Town Home.
BEGIN:VTIMEZONE
TZID:Australia/Melbourne
BEGIN:STANDARD
DTSTART:20210301T170000
TZOFFSETTO:+1100
TZNAME:GMT+11
END:STANDARD
END:VTIMEZONE
BEGIN:VEVENT
UID:603b2aa65e354
DTSTART;TZID=Australia/Melbourne:20210301T170000
SEQUENCE:0
TRANSP:OPAQUE
DTEND;TZID=Australia/Melbourne:20210301T173000
LOCATION:Res 10/1111 North East Road Ridgehaven SA
SUMMARY:Bruse Real Estate Open for Inspection - Res 10/1111 North East
 Road Ridgehaven SA
CLASS:PUBLIC
DESCRIPTION:Open for Inspection: Res 10/1111 North East Road Ridgehaven SA
 Monday 1st Mar 17:00pm - 17:30pm Click the link for full listing
 information: https://www.bruse.com.au/6324072
DTSTAMP:20210228T053118
END:VEVENT
END:VCALENDAR