BEGIN:VCALENDAR
VERSION:2.0
PRODID:Bruse Real Estate Open for Inspection - IMMACULATE MODERN TOWNHOUSE
 - 3 bedrooms with double garage!
BEGIN:VTIMEZONE
TZID:Australia/Melbourne
BEGIN:STANDARD
DTSTART:20210302T170000
TZOFFSETTO:+1100
TZNAME:GMT+11
END:STANDARD
END:VTIMEZONE
BEGIN:VEVENT
UID:603b33cb3de6c
DTSTART;TZID=Australia/Melbourne:20210302T170000
SEQUENCE:0
TRANSP:OPAQUE
DTEND;TZID=Australia/Melbourne:20210302T171500
LOCATION:37 Grant Avenue Gilles Plains SA
SUMMARY:Bruse Real Estate Open for Inspection - 37 Grant Avenue Gilles
 Plains SA
CLASS:PUBLIC
DESCRIPTION:Open for Inspection: 37 Grant Avenue Gilles Plains SA Tuesday
 2nd Mar 17:00pm - 17:15pm Click the link for full listing information:
 https://www.bruse.com.au/6320546
DTSTAMP:20210228T061019
END:VEVENT
END:VCALENDAR