BEGIN:VCALENDAR
VERSION:2.0
PRODID:Bruse Real Estate Open for Inspection - NEAR NEW FAMILY HOME!
 Cutting edge design! 
 ** OPEN INSPECTION WEDNESDAY 17TH FEBRUARY 12.45-1PM **
BEGIN:VTIMEZONE
TZID:Australia/Melbourne
BEGIN:STANDARD
DTSTART:20210303T121500
TZOFFSETTO:+1100
TZNAME:GMT+11
END:STANDARD
END:VTIMEZONE
BEGIN:VEVENT
UID:603b33d047ee4
DTSTART;TZID=Australia/Melbourne:20210303T121500
SEQUENCE:0
TRANSP:OPAQUE
DTEND;TZID=Australia/Melbourne:20210303T123000
LOCATION:5 Thomson Place Rostrevor SA
SUMMARY:Bruse Real Estate Open for Inspection - 5 Thomson Place Rostrevor
 SA
CLASS:PUBLIC
DESCRIPTION:Open for Inspection: 5 Thomson Place Rostrevor SA Wednesday
 3rd Mar 12:15pm - 12:30pm Click the link for full listing information:
 https://www.bruse.com.au/6288100
DTSTAMP:20210228T061024
END:VEVENT
END:VCALENDAR