BEGIN:VCALENDAR
VERSION:2.0
PRODID:Bruse Real Estate Open for Inspection - Brand new executive home in
 a top spot. Excellent quality. Lots of natural light.
BEGIN:VTIMEZONE
TZID:Australia/Melbourne
BEGIN:STANDARD
DTSTART:20210303T133000
TZOFFSETTO:+1100
TZNAME:GMT+11
END:STANDARD
END:VTIMEZONE
BEGIN:VEVENT
UID:603b2ac8c383f
DTSTART;TZID=Australia/Melbourne:20210303T133000
SEQUENCE:0
TRANSP:OPAQUE
DTEND;TZID=Australia/Melbourne:20210303T140000
LOCATION:Res 4/2 Camroc Avenue Tranmere SA
SUMMARY:Bruse Real Estate Open for Inspection - Res 4/2 Camroc Avenue
 Tranmere SA
CLASS:PUBLIC
DESCRIPTION:Open for Inspection: Res 4/2 Camroc Avenue Tranmere SA
 Wednesday 3rd Mar 13:30pm - 14:00pm Click the link for full listing
 information: https://www.bruse.com.au/6284573
DTSTAMP:20210228T053152
END:VEVENT
END:VCALENDAR