BEGIN:VCALENDAR
VERSION:2.0
PRODID:Bruse Real Estate Open for Inspection - **2 BEDROOM UNIT GREAT
 LOCATION **
BEGIN:VTIMEZONE
TZID:Australia/Melbourne
BEGIN:STANDARD
DTSTART:20210301T170000
TZOFFSETTO:+1100
TZNAME:GMT+11
END:STANDARD
END:VTIMEZONE
BEGIN:VEVENT
UID:603b33c484525
DTSTART;TZID=Australia/Melbourne:20210301T170000
SEQUENCE:0
TRANSP:OPAQUE
DTEND;TZID=Australia/Melbourne:20210301T171500
LOCATION:1/4 Tusmore Avenue Leabrook SA
SUMMARY:Bruse Real Estate Open for Inspection - 1/4 Tusmore Avenue
 Leabrook SA
CLASS:PUBLIC
DESCRIPTION:Open for Inspection: 1/4 Tusmore Avenue Leabrook SA Monday 1st
 Mar 17:00pm - 17:15pm Click the link for full listing information:
 https://www.bruse.com.au/6281344
DTSTAMP:20210228T061012
END:VEVENT
END:VCALENDAR