BEGIN:VCALENDAR
VERSION:2.0
PRODID:Bruse Real Estate Open for Inspection - STUNNING BRAND NEW HOME
 overlooking a quiet park setting. Just completed!
BEGIN:VTIMEZONE
TZID:Australia/Melbourne
BEGIN:STANDARD
DTSTART:20210303T123500
TZOFFSETTO:+1100
TZNAME:GMT+11
END:STANDARD
END:VTIMEZONE
BEGIN:VEVENT
UID:603b33d402177
DTSTART;TZID=Australia/Melbourne:20210303T123500
SEQUENCE:0
TRANSP:OPAQUE
DTEND;TZID=Australia/Melbourne:20210303T125000
LOCATION:13B Richardson Avenue Tranmere SA
SUMMARY:Bruse Real Estate Open for Inspection - 13B Richardson Avenue
 Tranmere SA
CLASS:PUBLIC
DESCRIPTION:Open for Inspection: 13B Richardson Avenue Tranmere SA
 Wednesday 3rd Mar 12:35pm - 12:50pm Click the link for full listing
 information: https://www.bruse.com.au/6261127
DTSTAMP:20210228T061028
END:VEVENT
END:VCALENDAR