BEGIN:VCALENDAR
VERSION:2.0
PRODID:Bruse Real Estate Open for Inspection - Superb duplex house with a
 generous back yard. Live the awesome lifestyle so close to the beach!
BEGIN:VTIMEZONE
TZID:Australia/Melbourne
BEGIN:STANDARD
DTSTART:20210303T123000
TZOFFSETTO:+1100
TZNAME:GMT+11
END:STANDARD
END:VTIMEZONE
BEGIN:VEVENT
UID:603b2aaf30fb7
DTSTART;TZID=Australia/Melbourne:20210303T123000
SEQUENCE:0
TRANSP:OPAQUE
DTEND;TZID=Australia/Melbourne:20210303T130000
LOCATION:2/129 Folkestone Road Dover Gardens SA
SUMMARY:Bruse Real Estate Open for Inspection - 2/129 Folkestone Road
 Dover Gardens SA
CLASS:PUBLIC
DESCRIPTION:Open for Inspection: 2/129 Folkestone Road Dover Gardens SA
 Wednesday 3rd Mar 12:30pm - 13:00pm Click the link for full listing
 information: https://www.bruse.com.au/6256260
DTSTAMP:20210228T053127
END:VEVENT
END:VCALENDAR