BEGIN:VCALENDAR
VERSION:2.0
PRODID:Bruse Real Estate Open for Inspection - 2 BEDROOM TOWNHOUSE IN THE
 CITY!
BEGIN:VTIMEZONE
TZID:Australia/Melbourne
BEGIN:STANDARD
DTSTART:20210301T111000
TZOFFSETTO:+1100
TZNAME:GMT+11
END:STANDARD
END:VTIMEZONE
BEGIN:VEVENT
UID:603b33c053469
DTSTART;TZID=Australia/Melbourne:20210301T111000
SEQUENCE:0
TRANSP:OPAQUE
DTEND;TZID=Australia/Melbourne:20210301T112500
LOCATION:285 Waymouth Street Adelaide SA
SUMMARY:Bruse Real Estate Open for Inspection - 285 Waymouth Street
 Adelaide SA
CLASS:PUBLIC
DESCRIPTION:Open for Inspection: 285 Waymouth Street Adelaide SA Monday
 1st Mar 11:10am - 11:25am Click the link for full listing information:
 https://www.bruse.com.au/6253078
DTSTAMP:20210228T061008
END:VEVENT
END:VCALENDAR