BEGIN:VCALENDAR
VERSION:2.0
PRODID:Bruse Real Estate Open for Inspection - Ground floor 2 bedroom unit
 in a top location directly opposite a lovely park
BEGIN:VTIMEZONE
TZID:Australia/Melbourne
BEGIN:STANDARD
DTSTART:20210301T103500
TZOFFSETTO:+1100
TZNAME:GMT+11
END:STANDARD
END:VTIMEZONE
BEGIN:VEVENT
UID:603b33bc06594
DTSTART;TZID=Australia/Melbourne:20210301T103500
SEQUENCE:0
TRANSP:OPAQUE
DTEND;TZID=Australia/Melbourne:20210301T105000
LOCATION:4/142 Carrington Street Adelaide SA
SUMMARY:Bruse Real Estate Open for Inspection - 4/142 Carrington Street
 Adelaide SA
CLASS:PUBLIC
DESCRIPTION:Open for Inspection: 4/142 Carrington Street Adelaide SA
 Monday 1st Mar 10:35am - 10:50am Click the link for full listing
 information: https://www.bruse.com.au/6252631
DTSTAMP:20210228T061004
END:VEVENT
END:VCALENDAR