BEGIN:VCALENDAR
VERSION:2.0
PRODID:Bruse Real Estate Open for Inspection - Stunning near new Torrens
 Title home with very generous living spaces. Such a convenient location to
 live a great lifestyle.
BEGIN:VTIMEZONE
TZID:Australia/Melbourne
BEGIN:STANDARD
DTSTART:20210228T121500
TZOFFSETTO:+1100
TZNAME:GMT+11
END:STANDARD
END:VTIMEZONE
BEGIN:VEVENT
UID:603b29f55f5f7
DTSTART;TZID=Australia/Melbourne:20210228T121500
SEQUENCE:0
TRANSP:OPAQUE
DTEND;TZID=Australia/Melbourne:20210228T124500
LOCATION:74C Stradbroke Road Newton SA
SUMMARY:Bruse Real Estate Open for Inspection - 74C Stradbroke Road Newton
 SA
CLASS:PUBLIC
DESCRIPTION:Open for Inspection: 74C Stradbroke Road Newton SA Sunday 28th
 Feb 12:15pm - 12:45pm Click the link for full listing information:
 https://www.bruse.com.au/6249642
DTSTAMP:20210228T052821
END:VEVENT
END:VCALENDAR