BEGIN:VCALENDAR
VERSION:2.0
PRODID:Bruse Real Estate Open for Inspection - Spacious Family Home with
 Swimming Pool!
BEGIN:VTIMEZONE
TZID:Australia/Melbourne
BEGIN:STANDARD
DTSTART:20210303T170000
TZOFFSETTO:+1100
TZNAME:GMT+11
END:STANDARD
END:VTIMEZONE
BEGIN:VEVENT
UID:603b33d71dfdb
DTSTART;TZID=Australia/Melbourne:20210303T170000
SEQUENCE:0
TRANSP:OPAQUE
DTEND;TZID=Australia/Melbourne:20210303T171500
LOCATION:58 Wright Street Renown Park SA
SUMMARY:Bruse Real Estate Open for Inspection - 58 Wright Street Renown
 Park SA
CLASS:PUBLIC
DESCRIPTION:Open for Inspection: 58 Wright Street Renown Park SA Wednesday
 3rd Mar 17:00pm - 17:15pm Click the link for full listing information:
 https://www.bruse.com.au/6180801
DTSTAMP:20210228T061031
END:VEVENT
END:VCALENDAR