BEGIN:VCALENDAR
VERSION:2.0
PRODID:Bruse Real Estate Open for Inspection - Glo Apartments - Great
 investment and/or lifestyle opportunity!
BEGIN:VTIMEZONE
TZID:Australia/Melbourne
BEGIN:STANDARD
DTSTART:20210228T134500
TZOFFSETTO:+1100
TZNAME:GMT+11
END:STANDARD
END:VTIMEZONE
BEGIN:VEVENT
UID:603b2a4091d16
DTSTART;TZID=Australia/Melbourne:20210228T134500
SEQUENCE:0
TRANSP:OPAQUE
DTEND;TZID=Australia/Melbourne:20210228T141500
LOCATION:304/5 Prince Court Adelaide SA
SUMMARY:Bruse Real Estate Open for Inspection - 304/5 Prince Court
 Adelaide SA
CLASS:PUBLIC
DESCRIPTION:Open for Inspection: 304/5 Prince Court Adelaide SA Sunday
 28th Feb 13:45pm - 14:15pm Click the link for full listing information:
 https://www.bruse.com.au/6159888
DTSTAMP:20210228T052936
END:VEVENT
END:VCALENDAR