BEGIN:VCALENDAR
VERSION:2.0
PRODID:Bruse Real Estate Open for Inspection - A classic home built by
 David Cheney. North-South Tennis court, Swimming pool. North facing
 aspect. Separate lower level granny flat or a retreat
BEGIN:VTIMEZONE
TZID:Australia/Melbourne
BEGIN:STANDARD
DTSTART:20210228T153000
TZOFFSETTO:+1100
TZNAME:GMT+11
END:STANDARD
END:VTIMEZONE
BEGIN:VEVENT
UID:603b2a67a457e
DTSTART;TZID=Australia/Melbourne:20210228T153000
SEQUENCE:0
TRANSP:OPAQUE
DTEND;TZID=Australia/Melbourne:20210228T160000
LOCATION:35 Wootoona Terrace St Georges SA
SUMMARY:Bruse Real Estate Open for Inspection - 35 Wootoona Terrace St
 Georges SA
CLASS:PUBLIC
DESCRIPTION:Open for Inspection: 35 Wootoona Terrace St Georges SA Sunday
 28th Feb 15:30pm - 16:00pm Click the link for full listing information:
 https://www.bruse.com.au/6141783
DTSTAMP:20210228T053015
END:VEVENT
END:VCALENDAR