BEGIN:VCALENDAR
VERSION:2.0
PRODID:Bruse Real Estate Open for Inspection - 4 Bedrooms, double garage,
 generous land size 340m2. Wonderful lifestyle home.
BEGIN:VTIMEZONE
TZID:Australia/Melbourne
BEGIN:STANDARD
DTSTART:20210301T154500
TZOFFSETTO:+1100
TZNAME:GMT+11
END:STANDARD
END:VTIMEZONE
BEGIN:VEVENT
UID:603b2aa2c3df8
DTSTART;TZID=Australia/Melbourne:20210301T154500
SEQUENCE:0
TRANSP:OPAQUE
DTEND;TZID=Australia/Melbourne:20210301T161500
LOCATION:30B John Avenue Tranmere SA
SUMMARY:Bruse Real Estate Open for Inspection - 30B John Avenue Tranmere
 SA
CLASS:PUBLIC
DESCRIPTION:Open for Inspection: 30B John Avenue Tranmere SA Monday 1st
 Mar 15:45pm - 16:15pm Click the link for full listing information:
 https://www.bruse.com.au/6079697
DTSTAMP:20210228T053114
END:VEVENT
END:VCALENDAR