BEGIN:VCALENDAR
VERSION:2.0
PRODID:Bruse Real Estate Open for Inspection - 4 Bedrooms, double garage,
 generous land size 340m2. Wonderful lifestyle home.
BEGIN:VTIMEZONE
TZID:Australia/Melbourne
BEGIN:STANDARD
DTSTART:20210228T143000
TZOFFSETTO:+1100
TZNAME:GMT+11
END:STANDARD
END:VTIMEZONE
BEGIN:VEVENT
UID:603b2a632502e
DTSTART;TZID=Australia/Melbourne:20210228T143000
SEQUENCE:0
TRANSP:OPAQUE
DTEND;TZID=Australia/Melbourne:20210228T150000
LOCATION:30B John Avenue Tranmere SA
SUMMARY:Bruse Real Estate Open for Inspection - 30B John Avenue Tranmere
 SA
CLASS:PUBLIC
DESCRIPTION:Open for Inspection: 30B John Avenue Tranmere SA Sunday 28th
 Feb 14:30pm - 15:00pm Click the link for full listing information:
 https://www.bruse.com.au/6079697
DTSTAMP:20210228T053011
END:VEVENT
END:VCALENDAR