BEGIN:VCALENDAR
VERSION:2.0
PRODID:Bruse Real Estate Open for Inspection - Very generous ultra stylish
 Torrens Title homes. You will love the interior design elements.
BEGIN:VTIMEZONE
TZID:Australia/Melbourne
BEGIN:STANDARD
DTSTART:20210303T154500
TZOFFSETTO:+1100
TZNAME:GMT+11
END:STANDARD
END:VTIMEZONE
BEGIN:VEVENT
UID:603b2af1c0854
DTSTART;TZID=Australia/Melbourne:20210303T154500
SEQUENCE:0
TRANSP:OPAQUE
DTEND;TZID=Australia/Melbourne:20210303T160000
LOCATION:1, 2 & 3/3 Gorman Street Modbury SA
SUMMARY:Bruse Real Estate Open for Inspection - 1, 2 & 3/3 Gorman Street
 Modbury SA
CLASS:PUBLIC
DESCRIPTION:Open for Inspection: 1, 2 & 3/3 Gorman Street Modbury SA
 Wednesday 3rd Mar 15:45pm - 16:00pm Click the link for full listing
 information: https://www.bruse.com.au/6043789
DTSTAMP:20210228T053233
END:VEVENT
END:VCALENDAR