BEGIN:VCALENDAR
VERSION:2.0
PRODID:Bruse Real Estate Open for Inspection - Sophisticated luxurious
 Torrens Title new homes. 
 And wow, they are so spacious. $30K grants.
BEGIN:VTIMEZONE
TZID:Australia/Melbourne
BEGIN:STANDARD
DTSTART:20210303T120000
TZOFFSETTO:+1100
TZNAME:GMT+11
END:STANDARD
END:VTIMEZONE
BEGIN:VEVENT
UID:603b2aabb059a
DTSTART;TZID=Australia/Melbourne:20210303T120000
SEQUENCE:0
TRANSP:OPAQUE
DTEND;TZID=Australia/Melbourne:20210303T123000
LOCATION:2 & 18 Parnta Avenue Prospect SA
SUMMARY:Bruse Real Estate Open for Inspection - 2 & 18 Parnta Avenue
 Prospect SA
CLASS:PUBLIC
DESCRIPTION:Open for Inspection: 2 & 18 Parnta Avenue Prospect SA
 Wednesday 3rd Mar 12:00pm - 12:30pm Click the link for full listing
 information: https://www.bruse.com.au/6012515
DTSTAMP:20210228T053123
END:VEVENT
END:VCALENDAR