BEGIN:VCALENDAR
VERSION:2.0
PRODID:Bruse Real Estate Open for Inspection - Fantastic modern family
 home overlooking Linear Park and the golf course.
BEGIN:VTIMEZONE
TZID:Australia/Melbourne
BEGIN:STANDARD
DTSTART:20210228T113000
TZOFFSETTO:+1100
TZNAME:GMT+11
END:STANDARD
END:VTIMEZONE
BEGIN:VEVENT
UID:603b29e1b39aa
DTSTART;TZID=Australia/Melbourne:20210228T113000
SEQUENCE:0
TRANSP:OPAQUE
DTEND;TZID=Australia/Melbourne:20210228T120000
LOCATION:7C Andrew Avenue Campbelltown SA
SUMMARY:Bruse Real Estate Open for Inspection - 7C Andrew Avenue
 Campbelltown SA
CLASS:PUBLIC
DESCRIPTION:Open for Inspection: 7C Andrew Avenue Campbelltown SA Sunday
 28th Feb 11:30am - 12:00pm Click the link for full listing information:
 https://www.bruse.com.au/5990204
DTSTAMP:20210228T052801
END:VEVENT
END:VCALENDAR