BEGIN:VCALENDAR
VERSION:2.0
PRODID:Bruse Real Estate Open for Inspection - New homes with excellent
 free flowing floorplans. 4 bedrooms. 3 bathrooms. Double garages.
BEGIN:VTIMEZONE
TZID:Australia/Melbourne
BEGIN:STANDARD
DTSTART:20210301T120000
TZOFFSETTO:+1100
TZNAME:GMT+11
END:STANDARD
END:VTIMEZONE
BEGIN:VEVENT
UID:603b2a7a34c31
DTSTART;TZID=Australia/Melbourne:20210301T120000
SEQUENCE:0
TRANSP:OPAQUE
DTEND;TZID=Australia/Melbourne:20210301T123000
LOCATION:6D Fisher Street Felixstow SA
SUMMARY:Bruse Real Estate Open for Inspection - 6D Fisher Street Felixstow
 SA
CLASS:PUBLIC
DESCRIPTION:Open for Inspection: 6D Fisher Street Felixstow SA Monday 1st
 Mar 12:00pm - 12:30pm Click the link for full listing information:
 https://www.bruse.com.au/5944668
DTSTAMP:20210228T053034
END:VEVENT
END:VCALENDAR