BEGIN:VCALENDAR
VERSION:2.0
PRODID:Bruse Real Estate Open for Inspection - New homes with excellent
 free flowing floorplans. 4 bedrooms. 3 bathrooms. Double garages.
BEGIN:VTIMEZONE
TZID:Australia/Melbourne
BEGIN:STANDARD
DTSTART:20210228T163000
TZOFFSETTO:+1100
TZNAME:GMT+11
END:STANDARD
END:VTIMEZONE
BEGIN:VEVENT
UID:603b2a7441c33
DTSTART;TZID=Australia/Melbourne:20210228T163000
SEQUENCE:0
TRANSP:OPAQUE
DTEND;TZID=Australia/Melbourne:20210228T170000
LOCATION:6D Fisher Street Felixstow SA
SUMMARY:Bruse Real Estate Open for Inspection - 6D Fisher Street Felixstow
 SA
CLASS:PUBLIC
DESCRIPTION:Open for Inspection: 6D Fisher Street Felixstow SA Sunday 28th
 Feb 16:30pm - 17:00pm Click the link for full listing information:
 https://www.bruse.com.au/5944668
DTSTAMP:20210228T053028
END:VEVENT
END:VCALENDAR