BEGIN:VCALENDAR
VERSION:2.0
PRODID:Bruse Real Estate Open for Inspection - So spacious. Uber trendy.
 Torrens Title. These 2 new homes are impressive!
BEGIN:VTIMEZONE
TZID:Australia/Melbourne
BEGIN:STANDARD
DTSTART:20210301T140000
TZOFFSETTO:+1100
TZNAME:GMT+11
END:STANDARD
END:VTIMEZONE
BEGIN:VEVENT
UID:603b2a8f9ae4a
DTSTART;TZID=Australia/Melbourne:20210301T140000
SEQUENCE:0
TRANSP:OPAQUE
DTEND;TZID=Australia/Melbourne:20210301T141500
LOCATION:19-21 Albion Terrace Campbelltown SA
SUMMARY:Bruse Real Estate Open for Inspection - 19-21 Albion Terrace
 Campbelltown SA
CLASS:PUBLIC
DESCRIPTION:Open for Inspection: 19-21 Albion Terrace Campbelltown SA
 Monday 1st Mar 14:00pm - 14:15pm Click the link for full listing
 information: https://www.bruse.com.au/5817490
DTSTAMP:20210228T053055
END:VEVENT
END:VCALENDAR