BEGIN:VCALENDAR
VERSION:2.0
PRODID:Bruse Real Estate Open for Inspection - Love the lifestyle in your
 new home in Tranmere. Spacious free flowing floorplans. 3 to choose from.
BEGIN:VTIMEZONE
TZID:Australia/Melbourne
BEGIN:STANDARD
DTSTART:20210301T133000
TZOFFSETTO:+1100
TZNAME:GMT+11
END:STANDARD
END:VTIMEZONE
BEGIN:VEVENT
UID:603b2a826bc04
DTSTART;TZID=Australia/Melbourne:20210301T133000
SEQUENCE:0
TRANSP:OPAQUE
DTEND;TZID=Australia/Melbourne:20210301T134500
LOCATION:33 John Avenue Tranmere SA
SUMMARY:Bruse Real Estate Open for Inspection - 33 John Avenue Tranmere SA
CLASS:PUBLIC
DESCRIPTION:Open for Inspection: 33 John Avenue Tranmere SA Monday 1st Mar
 13:30pm - 13:45pm Click the link for full listing information:
 https://www.bruse.com.au/5817213
DTSTAMP:20210228T053042
END:VEVENT
END:VCALENDAR