BEGIN:VCALENDAR
VERSION:2.0
PRODID:Bruse Real Estate Open for Inspection - Love the lifestyle in your
 new home in Tranmere. Spacious free flowing floorplans. 3 to choose from.
BEGIN:VTIMEZONE
TZID:Australia/Melbourne
BEGIN:STANDARD
DTSTART:20210228T121500
TZOFFSETTO:+1100
TZNAME:GMT+11
END:STANDARD
END:VTIMEZONE
BEGIN:VEVENT
UID:603b29f207912
DTSTART;TZID=Australia/Melbourne:20210228T121500
SEQUENCE:0
TRANSP:OPAQUE
DTEND;TZID=Australia/Melbourne:20210228T123000
LOCATION:33 John Avenue Tranmere SA
SUMMARY:Bruse Real Estate Open for Inspection - 33 John Avenue Tranmere SA
CLASS:PUBLIC
DESCRIPTION:Open for Inspection: 33 John Avenue Tranmere SA Sunday 28th
 Feb 12:15pm - 12:30pm Click the link for full listing information:
 https://www.bruse.com.au/5817213
DTSTAMP:20210228T052818
END:VEVENT
END:VCALENDAR