BEGIN:VCALENDAR
VERSION:2.0
PRODID:Bruse Real Estate Open for Inspection - Sophisticated new homes
 with a great look! 
 Spacious living areas. Main bedroom suites on the lower level.
BEGIN:VTIMEZONE
TZID:Australia/Melbourne
BEGIN:STANDARD
DTSTART:20210303T124500
TZOFFSETTO:+1100
TZNAME:GMT+11
END:STANDARD
END:VTIMEZONE
BEGIN:VEVENT
UID:603b2ab91c4c2
DTSTART;TZID=Australia/Melbourne:20210303T124500
SEQUENCE:0
TRANSP:OPAQUE
DTEND;TZID=Australia/Melbourne:20210303T130000
LOCATION:6A Fisher Street Felixstow SA
SUMMARY:Bruse Real Estate Open for Inspection - 6A Fisher Street Felixstow
 SA
CLASS:PUBLIC
DESCRIPTION:Open for Inspection: 6A Fisher Street Felixstow SA Wednesday
 3rd Mar 12:45pm - 13:00pm Click the link for full listing information:
 https://www.bruse.com.au/5812261
DTSTAMP:20210228T053137
END:VEVENT
END:VCALENDAR