BEGIN:VCALENDAR
VERSION:2.0
PRODID:Bruse Real Estate Open for Inspection - Absolutely stunning new
 homes located in the best part of Paradise.
 Top quality and top design.
BEGIN:VTIMEZONE
TZID:Australia/Melbourne
BEGIN:STANDARD
DTSTART:20210303T131500
TZOFFSETTO:+1100
TZNAME:GMT+11
END:STANDARD
END:VTIMEZONE
BEGIN:VEVENT
UID:603b2ac461740
DTSTART;TZID=Australia/Melbourne:20210303T131500
SEQUENCE:0
TRANSP:OPAQUE
DTEND;TZID=Australia/Melbourne:20210303T134500
LOCATION:12 Whitelodge Road Paradise SA
SUMMARY:Bruse Real Estate Open for Inspection - 12 Whitelodge Road
 Paradise SA
CLASS:PUBLIC
DESCRIPTION:Open for Inspection: 12 Whitelodge Road Paradise SA Wednesday
 3rd Mar 13:15pm - 13:45pm Click the link for full listing information:
 https://www.bruse.com.au/5810899
DTSTAMP:20210228T053148
END:VEVENT
END:VCALENDAR