BEGIN:VCALENDAR
VERSION:2.0
PRODID:Bruse Real Estate Open for Inspection - Uber cool and very spacious
 new Torrens Title homes. Get ready to be impressed!
BEGIN:VTIMEZONE
TZID:Australia/Melbourne
BEGIN:STANDARD
DTSTART:20210301T143000
TZOFFSETTO:+1100
TZNAME:GMT+11
END:STANDARD
END:VTIMEZONE
BEGIN:VEVENT
UID:603b2a9e96a8b
DTSTART;TZID=Australia/Melbourne:20210301T143000
SEQUENCE:0
TRANSP:OPAQUE
DTEND;TZID=Australia/Melbourne:20210301T144500
LOCATION:19 Alexander Avenue Campbelltown SA
SUMMARY:Bruse Real Estate Open for Inspection - 19 Alexander Avenue
 Campbelltown SA
CLASS:PUBLIC
DESCRIPTION:Open for Inspection: 19 Alexander Avenue Campbelltown SA
 Monday 1st Mar 14:30pm - 14:45pm Click the link for full listing
 information: https://www.bruse.com.au/5783981
DTSTAMP:20210228T053110
END:VEVENT
END:VCALENDAR