BEGIN:VCALENDAR
VERSION:2.0
PRODID:Bruse Real Estate Open for Inspection - Awesome new homes. 15K Home
 Builders Grant suitable. Top quality! 2 car parks.
BEGIN:VTIMEZONE
TZID:Australia/Melbourne
BEGIN:STANDARD
DTSTART:20210303T143000
TZOFFSETTO:+1100
TZNAME:GMT+11
END:STANDARD
END:VTIMEZONE
BEGIN:VEVENT
UID:603b2ae8391bd
DTSTART;TZID=Australia/Melbourne:20210303T143000
SEQUENCE:0
TRANSP:OPAQUE
DTEND;TZID=Australia/Melbourne:20210303T144500
LOCATION:46A, B & D Church Road Campbelltown SA
SUMMARY:Bruse Real Estate Open for Inspection - 46A, B & D Church Road
 Campbelltown SA
CLASS:PUBLIC
DESCRIPTION:Open for Inspection: 46A, B & D Church Road Campbelltown SA
 Wednesday 3rd Mar 14:30pm - 14:45pm Click the link for full listing
 information: https://www.bruse.com.au/5727576
DTSTAMP:20210228T053224
END:VEVENT
END:VCALENDAR