BEGIN:VCALENDAR
VERSION:2.0
PRODID:Bruse Real Estate Open for Inspection - Single level homes are hard
 to find in this price range. You can get the new Home Builders Grant of
 $15,000. Do not miss out.
BEGIN:VTIMEZONE
TZID:Australia/Melbourne
BEGIN:STANDARD
DTSTART:20210303T161500
TZOFFSETTO:+1100
TZNAME:GMT+11
END:STANDARD
END:VTIMEZONE
BEGIN:VEVENT
UID:603b2b0282805
DTSTART;TZID=Australia/Melbourne:20210303T161500
SEQUENCE:0
TRANSP:OPAQUE
DTEND;TZID=Australia/Melbourne:20210303T163000
LOCATION:6 Morialta Place (enter From 220 Stradbroke Road) Rostrevor SA
SUMMARY:Bruse Real Estate Open for Inspection - 6 Morialta Place (enter
 From 220 Stradbroke Road) Rostrevor SA
CLASS:PUBLIC
DESCRIPTION:Open for Inspection: 6 Morialta Place (enter From 220
 Stradbroke Road) Rostrevor SA Wednesday 3rd Mar 16:15pm - 16:30pm Click
 the link for full listing information: https://www.bruse.com.au/5714656
DTSTAMP:20210228T053250
END:VEVENT
END:VCALENDAR