BEGIN:VCALENDAR
VERSION:2.0
PRODID:Bruse Real Estate Open for Inspection - This home is in a
 spectacular location adjacent to Morialta Reserve and offers the
 opportunity to buy now and settle in April 2021.
BEGIN:VTIMEZONE
TZID:Australia/Melbourne
BEGIN:STANDARD
DTSTART:20210303T161500
TZOFFSETTO:+1100
TZNAME:GMT+11
END:STANDARD
END:VTIMEZONE
BEGIN:VEVENT
UID:603b2b081a3b4
DTSTART;TZID=Australia/Melbourne:20210303T161500
SEQUENCE:0
TRANSP:OPAQUE
DTEND;TZID=Australia/Melbourne:20210303T163000
LOCATION:2 Morialta Place (enter From 220 Stradbroke Road) Rostrevor SA
SUMMARY:Bruse Real Estate Open for Inspection - 2 Morialta Place (enter
 From 220 Stradbroke Road) Rostrevor SA
CLASS:PUBLIC
DESCRIPTION:Open for Inspection: 2 Morialta Place (enter From 220
 Stradbroke Road) Rostrevor SA Wednesday 3rd Mar 16:15pm - 16:30pm Click
 the link for full listing information: https://www.bruse.com.au/5714640
DTSTAMP:20210228T053256
END:VEVENT
END:VCALENDAR