BEGIN:VCALENDAR
VERSION:2.0
PRODID:Bruse Real Estate Open for Inspection - This group has an outlook
 from the balcony over Morialta Reserve.
BEGIN:VTIMEZONE
TZID:Australia/Melbourne
BEGIN:STANDARD
DTSTART:20210303T160000
TZOFFSETTO:+1100
TZNAME:GMT+11
END:STANDARD
END:VTIMEZONE
BEGIN:VEVENT
UID:603b2afbb3745
DTSTART;TZID=Australia/Melbourne:20210303T160000
SEQUENCE:0
TRANSP:OPAQUE
DTEND;TZID=Australia/Melbourne:20210303T161500
LOCATION:20, 21 &26 Chapel Way (off Of Swan Ave) Rostrevor SA
SUMMARY:Bruse Real Estate Open for Inspection - 20, 21 &26 Chapel Way (off
 Of Swan Ave) Rostrevor SA
CLASS:PUBLIC
DESCRIPTION:Open for Inspection: 20, 21 &26 Chapel Way (off Of Swan Ave)
 Rostrevor SA Wednesday 3rd Mar 16:00pm - 16:15pm Click the link for full
 listing information: https://www.bruse.com.au/5714242
DTSTAMP:20210228T053243
END:VEVENT
END:VCALENDAR