BEGIN:VCALENDAR
VERSION:2.0
PRODID:Bruse Real Estate Open for Inspection - Live in this wonderful
 estate of new homes. Surrounded by quality homes, parks and gardens.
BEGIN:VTIMEZONE
TZID:Australia/Melbourne
BEGIN:STANDARD
DTSTART:20210303T160000
TZOFFSETTO:+1100
TZNAME:GMT+11
END:STANDARD
END:VTIMEZONE
BEGIN:VEVENT
UID:603b2af68d8f8
DTSTART;TZID=Australia/Melbourne:20210303T160000
SEQUENCE:0
TRANSP:OPAQUE
DTEND;TZID=Australia/Melbourne:20210303T161500
LOCATION:30, 34 &35 Chapel Way (off Of Swan Ave) Rostrevor SA
SUMMARY:Bruse Real Estate Open for Inspection - 30, 34 &35 Chapel Way (off
 Of Swan Ave) Rostrevor SA
CLASS:PUBLIC
DESCRIPTION:Open for Inspection: 30, 34 &35 Chapel Way (off Of Swan Ave)
 Rostrevor SA Wednesday 3rd Mar 16:00pm - 16:15pm Click the link for full
 listing information: https://www.bruse.com.au/5709432
DTSTAMP:20210228T053238
END:VEVENT
END:VCALENDAR