BEGIN:VCALENDAR
VERSION:2.0
PRODID:Bruse Real Estate Open for Inspection - Live in this wonderful
 estate of new homes. Surrounded by quality homes, parks and gardens.
BEGIN:VTIMEZONE
TZID:Australia/Melbourne
BEGIN:STANDARD
DTSTART:20210228T123000
TZOFFSETTO:+1100
TZNAME:GMT+11
END:STANDARD
END:VTIMEZONE
BEGIN:VEVENT
UID:603b29ffcc09a
DTSTART;TZID=Australia/Melbourne:20210228T123000
SEQUENCE:0
TRANSP:OPAQUE
DTEND;TZID=Australia/Melbourne:20210228T130000
LOCATION:30, 34 &35 Chapel Way (off Of Swan Ave) Rostrevor SA
SUMMARY:Bruse Real Estate Open for Inspection - 30, 34 &35 Chapel Way (off
 Of Swan Ave) Rostrevor SA
CLASS:PUBLIC
DESCRIPTION:Open for Inspection: 30, 34 &35 Chapel Way (off Of Swan Ave)
 Rostrevor SA Sunday 28th Feb 12:30pm - 13:00pm Click the link for full
 listing information: https://www.bruse.com.au/5709432
DTSTAMP:20210228T052831
END:VEVENT
END:VCALENDAR