BEGIN:VCALENDAR
VERSION:2.0
PRODID:Bruse Real Estate Open for Inspection - 15K Home Builders grant
 suitable! Stunning Torrens title homes with a great style.
BEGIN:VTIMEZONE
TZID:Australia/Melbourne
BEGIN:STANDARD
DTSTART:20210303T140000
TZOFFSETTO:+1100
TZNAME:GMT+11
END:STANDARD
END:VTIMEZONE
BEGIN:VEVENT
UID:603b2ad8d2ef6
DTSTART;TZID=Australia/Melbourne:20210303T140000
SEQUENCE:0
TRANSP:OPAQUE
DTEND;TZID=Australia/Melbourne:20210303T141500
LOCATION:1, 2 & 3/13 Church Road Paradise SA
SUMMARY:Bruse Real Estate Open for Inspection - 1, 2 & 3/13 Church Road
 Paradise SA
CLASS:PUBLIC
DESCRIPTION:Open for Inspection: 1, 2 & 3/13 Church Road Paradise SA
 Wednesday 3rd Mar 14:00pm - 14:15pm Click the link for full listing
 information: https://www.bruse.com.au/5705322
DTSTAMP:20210228T053208
END:VEVENT
END:VCALENDAR