BEGIN:VCALENDAR
VERSION:2.0
PRODID:Bruse Real Estate Open for Inspection - This stunning new home is a
 cut above others with absolute quality and a wonderful designed home for
 family living with a main bedroom on lower level.
BEGIN:VTIMEZONE
TZID:Australia/Melbourne
BEGIN:STANDARD
DTSTART:20210228T131500
TZOFFSETTO:+1100
TZNAME:GMT+11
END:STANDARD
END:VTIMEZONE
BEGIN:VEVENT
UID:603b2a3b55f8e
DTSTART;TZID=Australia/Melbourne:20210228T131500
SEQUENCE:0
TRANSP:OPAQUE
DTEND;TZID=Australia/Melbourne:20210228T134500
LOCATION:7 Chapel Way (off Of Swan Ave) Rostrevor SA
SUMMARY:Bruse Real Estate Open for Inspection - 7 Chapel Way (off Of Swan
 Ave) Rostrevor SA
CLASS:PUBLIC
DESCRIPTION:Open for Inspection: 7 Chapel Way (off Of Swan Ave) Rostrevor
 SA Sunday 28th Feb 13:15pm - 13:45pm Click the link for full listing
 information: https://www.bruse.com.au/5705319
DTSTAMP:20210228T052931
END:VEVENT
END:VCALENDAR