BEGIN:VCALENDAR
VERSION:2.0
PRODID:Bruse Real Estate Open for Inspection - Stunning homes. Bespoke
 architectural designs and interior design. Peaceful location.
BEGIN:VTIMEZONE
TZID:Australia/Melbourne
BEGIN:STANDARD
DTSTART:20210228T130000
TZOFFSETTO:+1100
TZNAME:GMT+11
END:STANDARD
END:VTIMEZONE
BEGIN:VEVENT
UID:603b2a2f1cfdf
DTSTART;TZID=Australia/Melbourne:20210228T130000
SEQUENCE:0
TRANSP:OPAQUE
DTEND;TZID=Australia/Melbourne:20210228T133000
LOCATION:2,6 & 8/25 Heggaton Terrace Newton SA
SUMMARY:Bruse Real Estate Open for Inspection - 2,6 & 8/25 Heggaton
 Terrace Newton SA
CLASS:PUBLIC
DESCRIPTION:Open for Inspection: 2,6 & 8/25 Heggaton Terrace Newton SA
 Sunday 28th Feb 13:00pm - 13:30pm Click the link for full listing
 information: https://www.bruse.com.au/5549522
DTSTAMP:20210228T052919
END:VEVENT
END:VCALENDAR