BEGIN:VCALENDAR
VERSION:2.0
PRODID:Bruse Real Estate Open for Inspection - Live in Paradise in your
 brand new designer home. Sensational value. Everything included. Double
 garages.
BEGIN:VTIMEZONE
TZID:Australia/Melbourne
BEGIN:STANDARD
DTSTART:20210228T113000
TZOFFSETTO:+1100
TZNAME:GMT+11
END:STANDARD
END:VTIMEZONE
BEGIN:VEVENT
UID:603b29d0af62c
DTSTART;TZID=Australia/Melbourne:20210228T113000
SEQUENCE:0
TRANSP:OPAQUE
DTEND;TZID=Australia/Melbourne:20210228T120000
LOCATION:1,5 & 8/2 La Scala Court Paradise SA
SUMMARY:Bruse Real Estate Open for Inspection - 1,5 & 8/2 La Scala Court
 Paradise SA
CLASS:PUBLIC
DESCRIPTION:Open for Inspection: 1,5 & 8/2 La Scala Court Paradise SA
 Sunday 28th Feb 11:30am - 12:00pm Click the link for full listing
 information: https://www.bruse.com.au/5549521
DTSTAMP:20210228T052744
END:VEVENT
END:VCALENDAR