BEGIN:VCALENDAR
VERSION:2.0
PRODID:Bruse Real Estate Open for Inspection - North Facing Penthouse
 Apartment.
BEGIN:VTIMEZONE
TZID:Australia/Melbourne
BEGIN:STANDARD
DTSTART:20210228T130000
TZOFFSETTO:+1100
TZNAME:GMT+11
END:STANDARD
END:VTIMEZONE
BEGIN:VEVENT
UID:603b2a227ca75
DTSTART;TZID=Australia/Melbourne:20210228T130000
SEQUENCE:0
TRANSP:OPAQUE
DTEND;TZID=Australia/Melbourne:20210228T133000
LOCATION:1502/180 Morphett Street Adelaide SA
SUMMARY:Bruse Real Estate Open for Inspection - 1502/180 Morphett Street
 Adelaide SA
CLASS:PUBLIC
DESCRIPTION:Open for Inspection: 1502/180 Morphett Street Adelaide SA
 Sunday 28th Feb 13:00pm - 13:30pm Click the link for full listing
 information: https://www.bruse.com.au/5549508
DTSTAMP:20210228T052906
END:VEVENT
END:VCALENDAR