BEGIN:VCALENDAR
VERSION:2.0
PRODID:Bruse Real Estate Open for Inspection - Super stylish homes in a
 top location. Excellent value. Supreme quality. Verve at Paradise.
BEGIN:VTIMEZONE
TZID:Australia/Melbourne
BEGIN:STANDARD
DTSTART:20210228T113000
TZOFFSETTO:+1100
TZNAME:GMT+11
END:STANDARD
END:VTIMEZONE
BEGIN:VEVENT
UID:603b29dd1911f
DTSTART;TZID=Australia/Melbourne:20210228T113000
SEQUENCE:0
TRANSP:OPAQUE
DTEND;TZID=Australia/Melbourne:20210228T120000
LOCATION:13,17 & 18/2 La Scala Court Paradise SA
SUMMARY:Bruse Real Estate Open for Inspection - 13,17 & 18/2 La Scala
 Court Paradise SA
CLASS:PUBLIC
DESCRIPTION:Open for Inspection: 13,17 & 18/2 La Scala Court Paradise SA
 Sunday 28th Feb 11:30am - 12:00pm Click the link for full listing
 information: https://www.bruse.com.au/5549504
DTSTAMP:20210228T052757
END:VEVENT
END:VCALENDAR